Workbook

Sheet Titlepage
B3: Supplementary Material to:
B4: Cost-Benefit Analysis of age-based screening for Driver's License Renewal
B5: https://doi.org/10.1016/j.tranpol.2026.104493
B7: Tano Kannegiesser, Stefan Tscharaktschiew
B8: 2026

Sheet Contents
B2: CONTENTS
B3: CBA CALCULATIONS
B4: CBA_1: Inputs
B5: CBA_2: MNL model
B6: CBA_3: Discounting
B7: CBA_4: Results
B8: CBA_5: Partial Sensitivity Analysis
B9: CBA_6 Monte Carlo Simulation
B11: DATA (see published paper for full citations)
B12: DATA_1: Derivation s_i_rev and s_in
B13: DATA_2: Raw data on ABS-regulation in USA 2019 (FTS, 2019: Driver Licensing Policies And Practices), 2024 (IIHS-HLDI, 2024: License Renewal Requirements); Data extracted from Lococo et al. (2017: Medical review practices for driver licensing, Volume 3: Guidelines and processes in the United States)
B14: DATA_3: Data extracted on Residence Parking Permits from DUH (2025) and Gieße (2025)
... B17: Gray cells and values are artifacts, intermediate results or document default / sensitivity analysis for copy-pasting.

Sheet CBA_1
A1: Back to content overview
B3: INPUTS
B5: QUANTITATIVE REACTIONS | O5: Default | R5: MCS | T5: Partial | AB5: gamma | AC5: NPV(gamma) | AD5: wert aus spalte: gamma
AC6: =CBA_4!I43 -> -7.6081435e+08
B7: 2024 parameters | C7: ABS Age thresholds i | D7: L_i | E7: s^in | F7: L_i^cor | G7: M_i | H7: L_i^cor*M_i | I7: s_i^rev (%) | J7: L_i^rev | K7: M_i^rev | M7: revoked * T_i | O7: s^in | P7: s_i^rev (%) | R7: s_i^rev | T7: s^in/2 | U7: s^in*2 | V7: s^in+1% each threshold | X7: s_i^rev/2 | Y7: s_i^rev*2 | Z7: s_i^rev +1% each threshold | AB7: 4
C8: 65 | D8: 1072151.7 | E8: =DATA_1!$D$50/100 -> 0.031007653 | F8: =D8-D8*E8 -> 1038906.8 | G8: 6717.451 | H8: =F8*G8 -> 6.9788055e+09 | I8: =DATA_1!$M$10 -> 0.28898468 | J8: =F8*(I8/100) -> 3002.2815 | K8: =J8*G8 -> 20167679 | M8: =J8*CBA_3!F7 -> 58120.149 | O8: =DATA_1!$D$50/100 -> 0.031007653 | P8: =DATA_1!$M$10 -> 0.28898468 | R8: =CBA_6!$C$12 -> 0.46109571 | T8: =(DATA_1!$D$50/100)/2 -> 0.015503826 | U8: =(DATA_1!$D$50/100)*2 -> 0.062015306 | V8: =(DATA_1!$D$50/100) -> 0.031007653 | X8: =P8/2 -> 0.14449234 | Y8: =P8*2 -> 0.57796937 | Z8: =P8 -> 0.28898468 | AB8: 3.99
C9: 70 | D9: 862630.3 | E9: =DATA_1!$D$50/100 -> 0.031007653 | F9: =D9-D9*E9 -> 835882.16 | G9: 5979.512 | H9: =F9*G9 -> 4.9981674e+09 | I9: =DATA_1!$M$11 -> 1.1781588 | J9: =F9*(I9/100) -> 9848.0192 | K9: =J9*G9 -> 58886349 | M9: =J9*CBA_3!F9 -> 153639.04 | O9: =DATA_1!$D$50/100 -> 0.031007653 | P9: =DATA_1!$M$11 -> 1.1781588 | R9: =CBA_6!$D$12 -> 1.7915671 | T9: =(DATA_1!$D$50/100)/2 -> 0.015503826 | U9: =(DATA_1!$D$50/100)*2 -> 0.062015306 | V9: =V8+0.01 -> 0.041007653 | X9: =P9/2 -> 0.5890794 | Y9: =P9*2 -> 2.3563176 | Z9: =Z8+1 -> 1.2889847 | AB9: 3.98
C10: 75 | D10: 732153.4 | E10: =DATA_1!$D$50/100 -> 0.031007653 | F10: =D10-D10*E10 -> 709451.04 | G10: 3945.044 | H10: =F10*G10 -> 2.7988156e+09 | I10: =DATA_1!$M$12 -> 1.9698481 | J10: =F10*(I10/100) -> 13975.108 | K10: =J10*G10 -> 55132415 | M10: =J10*CBA_3!F11 -> 168935.52 | O10: =DATA_1!$D$50/100 -> 0.031007653 | P10: =DATA_1!$M$12 -> 1.9698481 | R10: =CBA_6!$E$12 -> 3.3351101 | T10: =(DATA_1!$D$50/100)/2 -> 0.015503826 | U10: =(DATA_1!$D$50/100)*2 -> 0.062015306 | V10: =V9+0.01 -> 0.051007653 | X10: =P10/2 -> 0.98492404 | Y10: =P10*2 -> 3.9396962 | Z10: =Z9+1 -> 2.2889847 | AB10: 3.97
C11: 80 | D11: 519764.3 | E11: =DATA_1!$D$50/100 -> 0.031007653 | F11: =D11-D11*E11 -> 503647.63 | G11: 3295.127 | H11: =F11*G11 -> 1.6595829e+09 | I11: =DATA_1!$M$13 -> 2.0225867 | J11: =F11*(I11/100) -> 10186.71 | K11: =J11*G11 -> 33566503 | M11: =J11*CBA_3!F13 -> 90546.826 | O11: =DATA_1!$D$50/100 -> 0.031007653 | P11: =DATA_1!$M$13 -> 2.0225867 | R11: =CBA_6!$F$12 -> 4.202557 | T11: =(DATA_1!$D$50/100)/2 -> 0.015503826 | U11: =(DATA_1!$D$50/100)*2 -> 0.062015306 | V11: =V10+0.01 -> 0.061007653 | X11: =P11/2 -> 1.0112933 | Y11: =P11*2 -> 4.0451734 | Z11: =Z10+1 -> 3.2889847 | AB11: 3.96
C12: 85 | D12: 399319.3 | E12: =DATA_1!$D$50/100 -> 0.031007653 | F12: =D12-D12*E12 -> 386937.35 | G12: 1448.397 | H12: =F12*G12 -> 5.6043889e+08 | I12: =DATA_1!$M$14 -> 2.0852974 | J12: =F12*(I12/100) -> 8068.7945 | K12: =J12*G12 -> 11686818 | M12: =J12*CBA_3!F15 -> 49327.756 | O12: =DATA_1!$D$50/100 -> 0.031007653 | P12: =DATA_1!$M$14 -> 2.0852974 | R12: =CBA_6!$G$12 -> 3.801642 | T12: =(DATA_1!$D$50/100)/2 -> 0.015503826 | U12: =(DATA_1!$D$50/100)*2 -> 0.062015306 | V12: =V11+0.01 -> 0.071007653 | X12: =P12/2 -> 1.0426487 | Y12: =P12*2 -> 4.1705949 | Z12: =Z11+1 -> 4.2889847 | AB12: 3.95
C13: 90 | D13: 159834.8 | E13: =DATA_1!$D$50/100 -> 0.031007653 | F13: =D13-D13*E13 -> 154878.7 | G13: 1448.397 | H13: =F13*G13 -> 2.2432584e+08 | I13: =DATA_1!$M$15 -> 2.4405026 | J13: =F13*(I13/100) -> 3779.8187 | K13: =J13*G13 -> 5474678 | M13: =J13*CBA_3!F17 -> 15082.446 | O13: =DATA_1!$D$50/100 -> 0.031007653 | P13: =DATA_1!$M$15 -> 2.4405026 | R13: =CBA_6!$H$12 -> 4.3802806 | T13: =(DATA_1!$D$50/100)/2 -> 0.015503826 | U13: =(DATA_1!$D$50/100)*2 -> 0.062015306 | V13: =V12+0.01 -> 0.081007653 | X13: =P13/2 -> 1.2202513 | Y13: =P13*2 -> 4.8810052 | Z13: =Z12+1 -> 5.2889847 | AB13: 3.94
C14: 95 | D14: 40046.4 | E14: =DATA_1!$D$50/100 -> 0.031007653 | F14: =D14-D14*E14 -> 38804.655 | G14: 1448.397 | H14: =F14*G14 -> 56204546 | I14: =DATA_1!$M$15 -> 2.4405026 | J14: =F14*(I14/100) -> 947.02862 | K14: =J14*G14 -> 1371673.4 | M14: =J14*CBA_3!F19 -> 2511.1891 | O14: =DATA_1!$D$50/100 -> 0.031007653 | P14: =DATA_1!$M$15 -> 2.4405026 | R14: =CBA_6!$I$12 -> 1.2044472 | T14: =(DATA_1!$D$50/100)/2 -> 0.015503826 | U14: =(DATA_1!$D$50/100)*2 -> 0.062015306 | V14: =V13+0.01 -> 0.091007653 | X14: =P14/2 -> 1.2202513 | Y14: =P14*2 -> 4.8810052 | Z14: =Z13+1 -> 6.2889847 | AB14: 3.93
C15: SUM | D15: =SUM(D8:D14) -> 3785900.2 | F15: =SUM(F8:F14) -> 3668508.3 | H15: =SUM(H8:H14) -> 1.7276341e+10 | I15: =SUMPRODUCT(I8:I14,J8:J14)/J15 -> 1.7861515 | J15: =SUM(J8:J14) -> 49807.76 | K15: =SUM(K8:K14) -> 1.8628611e+08 | M15: =SUM(M8:M14) -> 538162.93 | AB15: 3.92
B17: Average mileage reduction | C17: =K15/J15 -> 3740.1022 | D17: [km/year]
B18: Average revocation age: | C18: =(K8*C8+K9*C9+K10*C10+K11*C11+K12*C12+K13*C13+K14*C14)/K15 -> 74.453238 | D18: [years]
B19: L^{tot}_{65+} (Drivers licenses 2024 65+) | C19: 16491354 | D19: n
B20: L^{tot}_{17+} (Drivers licenses 2024 total) | C20: 61753375 | D20: n
B21: Average mileage 65+ | C21: =D55/C19 -> 4631.7628 | D21: km/year
B22: share among 65+ drivers 2024 | C22: =J15/C19 -> 0.0030202347 | D22: -
B23: share among all drivers 2024 | C23: =J15/C20 -> 0.00080655932 | D23: -
B24: share among 65+ if license revoked until end of life | C24: =M15/C19 -> 0.032633035 | D24: -
B25: share among all drivers if license revoked until end of life | C25: =M15/C20 -> 0.0087147128 | D25: -
B26: Average duration spent with revoked license | C26: =C24/C22 -> 10.804801 | D26: [years]
B27: Mileage reduction in relation to total german mileage | C27: =K15/D54 -> 0.00034965327 | D27: %
B28: M^pop | C28: 8669.23 | D28: [km/year]
B30: PRIMARY MARKET
B32: INPUT MARKETS
F33: default
B34: Medical Examination | C34: t_me | D34: =(15/60)*1 -> 0.25 | E34: [h/case] | F34: 0.25
C35: Total Duration | D35: =D34*F15 -> 917127.08 | E35: [h]
C36: Total number of GP | D36: 45373 | E36: [GP 2024]
C37: Total GP working time per year (without abs) | D37: =45/5 *225 *D36 -> 91880325 | E37: [h/year]
C38: Additional working time per GP | D38: =D35/D36 -> 20.213058 | E38: [h/year]
C39: Ratio additional time/previous working time | D39: =D35/D37 -> 0.009981757 | E39: - | F39: default
C40: c_me | D40: =((80 + 260+ 89 +70) * 2.3 * 0.0582873)*1 -> 66.896334 | E40: [€2024/case] | F40: =((80 + 260+ 89 +70) * 2.3 * 0.0582873) -> 66.896334
C41: w_gp | D41: =98750/(12*4.35*45) -> 42.039166 | E41: [€2024/h]
B43: Administrative Labor Inputs | C43: w_ad | D43: =AVERAGE(23.51, 22.05,21.13,20.54) -> 21.8075 | E43: [€2024/h] | F43: default
C44: t_ad | D44: =(16.5/60)*1 -> 0.275 | E44: [h/case] | F44: =(16.5/60) -> 0.275
C45: Total Duration | D45: =D44*F15 -> 1008839.8 | E45: [h]
F46: default
...

Sheet CBA_2
A1: Back to content overview
B3: MNL MODEL | T3: revoked car trips | U3: =CBA_1!K15/F10 -> 15103811
T4: CO | U4: =U3/E10 -> 46536133
B5: AVERAGE / NO SEGMENTS
B6: BASELINE SITUATION (NO ABS) | T6: ABS
B7: n | C7: modal split [%] | E7: P_n | F7: D_n | G7: c_n | H7: C_n | I7: T_n | J7: lambda_n | K7: T_n | L7: GC_n | M7: V_n-ASC_n | N7: ASC_n | O7: V_n | P7: numerator | Q7: P_n | R7: test | T7: numerator | U7: P_n_1 | V7: difference | W7: change in trips | X7: distance change [km] | Z7: avg speed
B8: Walk | C8: 29.825075 | D8: =C8/100 -> 0.29825075 | E8: =D8*(1-$D$15) -> 0.22517931 | F8: 2.0705498 | G8: =CBA_1!$D$84 -> 0 | H8: =F8*G8 -> 0 | I8: 34.310637 | J8: =CBA_1!$E$84 -> 14.728812 | K8: =I8/60*J8 -> 8.4225822 | L8: =H8+K8 -> 8.4225822 | M8: =L8*CBA_1!$D$79 -> -0.84070261 | N8: =LN(E8/$E$15)-M8 -> 0.75634143 | O8: =N8+M8 -> -0.084361175 | P8: =EXP(O8) -> 0.91909924 | Q8: =P8/$P$17 -> 0.22517931 | R8: =IF(Q8=E8,"T","F") -> T | T8: =P8 -> 0.91909924 | U8: =T8/$T$17 -> 0.33338213 | V8: =U8-Q8 -> 0.10820282 | W8: =V8*$U$4 -> 5035340.9 | X8: =W8*F8 -> 10425924 | Z8: =F8/(I8/60) -> 3.6208301
B9: Bike | C9: 9.7555196 | D9: =C9/100 -> 0.097555196 | E9: =D9*(1-$D$15) -> 0.073654173 | F9: 5.2372201 | G9: =CBA_1!$D$85 -> 0 | H9: =F9*G9 -> 0 | I9: 31.19276 | J9: =CBA_1!$E$85 -> 14.728812 | K9: =I9/60*J9 -> 7.657205 | L9: =H9+K9 -> 7.657205 | M9: =L9*CBA_1!$D$79 -> -0.76430625 | N9: =LN(E9/$E$15)-M9 -> -0.43757117 | O9: =N9+M9 -> -1.2018774 | P9: =EXP(O9) -> 0.30062928 | Q9: =P9/$P$17 -> 0.073654173 | R9: =IF(Q9=E9,"T","F") -> T | T9: =P9 -> 0.30062928 | U9: =T9/$T$17 -> 0.10904636 | V9: =U9-Q9 -> 0.035392191 | W9: =V9*$U$4 -> 1647015.7 | X9: =W9*F9 -> 8625783.8 | Z9: =F9/(I9/60) -> 10.073915
B10: Car Driver | C10: 42.988205 | D10: =C10/100 -> 0.42988205 | E10: =D10*(1-$D$15) -> 0.32456094 | F10: 12.333716 | G10: =CBA_1!$D$86 -> 0.31540086 | H10: =F10*G10 -> 3.8900645 | I10: 26.03944 | J10: =CBA_1!$E$86 -> 10.157802 | K10: =I10/60*J10 -> 4.4083911 | L10: =H10+K10 -> 8.2984556 | M10: =L10*CBA_1!$D$79 -> -0.82831287 | N10: =LN(E10/$E$15)-M10 -> 1.109528 | O10: =N10+M10 -> 0.28121512 | P10: =EXP(O10) -> 1.3247385 | Q10: =P10/$P$17 -> 0.32456094 | R10: =IF(Q10=E10,"T","F") -> T | T10: 0 | U10: =T10/$T$17 -> 0 | V10: =U10-Q10 -> -0.32456094 | W10: =V10*$U$4 -> -15103811 | X10: =W10*F10 -> -1.8628611e+08 | Z10: =F10/(I10/60) -> 28.419311
B11: Car Passenger | C11: 10.585139 | D11: =C11/100 -> 0.10585139 | E11: =D11*(1-$D$15) -> 0.079917803 | F11: 16.990333 | G11: =CBA_1!$D$87 -> 0 | H11: =F11*G11 -> 0 | I11: 30.810034 | J11: =CBA_1!$E$87 -> 10.157802 | K11: =I11/60*J11 -> 5.2160368 | L11: =H11+K11 -> 5.2160368 | M11: =L11*CBA_1!$D$79 -> -0.5206403 | N11: =LN(E11/$E$15)-M11 -> -0.59961928 | O11: =N11+M11 -> -1.1202596 | P11: =EXP(O11) -> 0.32619511 | Q11: =P11/$P$17 -> 0.079917803 | R11: =IF(Q11=E11,"T","F") -> T | T11: =P11 -> 0.32619511 | U11: =T11/$T$17 -> 0.11831978 | V11: =U11-Q11 -> 0.038401981 | W11: =V11*$U$4 -> 1787079.7 | X11: =W11*F11 -> 30363079 | Z11: =F11/(I11/60) -> 33.087272
B12: Public Transport | C12: 5.8087983 | D12: =C12/100 -> 0.058087983 | E12: =D12*(1-$D$15) -> 0.043856427 | F12: 11.629045 | G12: =CBA_1!$D$88 -> 0.13914849 | H12: =F12*G12 -> 1.6181641 | I12: 48.696934 | J12: =CBA_1!$E$88 -> 10.157802 | K12: =I12/60*J12 -> 8.2442299 | L12: =H12+K12 -> 9.862394 | M12: =L12*CBA_1!$D$79 -> -0.98441785 | N12: =LN(E12/$E$15)-M12 -> -0.73591907 | O12: =N12+M12 -> -1.7203369 | P12: =EXP(O12) -> 0.17900583 | Q12: =P12/$P$17 -> 0.043856427 | R12: =IF(Q12=E12,"T","F") -> T | T12: =P12 -> 0.17900583 | U12: =T12/$T$17 -> 0.064930251 | V12: =U12-Q12 -> 0.021073824 | W12: =V12*$U$4 -> 980694.26 | X12: =W12*F12 -> 11404537 | Z12: =F12/(I12/60) -> 14.328267
B13: Taxi | C13: 0.32618635 | D13: =C13/100 -> 0.0032618635 | E13: =D13*(1-$D$15) -> 0.0024627069 | F13: 9.1235374 | G13: =CBA_1!$D$89 -> 2.5 | H13: =F13*G13 -> 22.808843 | I13: 28.259419 | J13: =CBA_1!$E$89 -> 10.157802 | K13: =I13/60*J13 -> 4.7842262 | L13: =H13+K13 -> 27.59307 | M13: =L13*CBA_1!$D$79 -> -2.7542106 | N13: =LN(E13/$E$15)-M13 -> -1.8457864 | O13: =N13+M13 -> -4.5999971 | P13: =EXP(O13) -> 0.010051865 | Q13: =P13/$P$17 -> 0.0024627069 | R13: =IF(Q13=E13,"T","F") -> T | T13: =P13 -> 0.010051865 | U13: =T13/$T$17 -> 0.0036460831 | V13: =U13-Q13 -> 0.0011833762 | W13: =V13*$U$4 -> 55069.751 | X13: =W13*F13 -> 502430.93 | Z13: =F13/(I13/60) -> 19.370966
B14: Long-dist. PT | C14: 0.71107712 | D14: =C14/100 -> 0.0071107712 | E14: =D14*(1-$D$15) -> 0.0053686322 | F14: 134.93086 | G14: =CBA_1!$D$90 -> 0.13254387 | H14: =F14*G14 -> 17.884258 | I14: 132.6472 | J14: =CBA_1!$E$90 -> 10.157802 | K14: =I14/60*J14 -> 22.456733 | L14: =H14+K14 -> 40.340991 | M14: =L14*CBA_1!$D$79 -> -4.0266483 | N14: =LN(E14/$E$15)-M14 -> 0.20596323 | O14: =N14+M14 -> -3.820685 | P14: =EXP(O14) -> 0.021912785 | Q14: =P14/$P$17 -> 0.0053686322 | R14: =IF(Q14=E14,"T","F") -> T | T14: =P14 -> 0.021912785 | U14: =T14/$T$17 -> 0.0079483592 | V14: =U14-Q14 -> 0.002579727 | W14: =V14*$U$4 -> 120050.52 | X14: =W14*F14 -> 16198520 | Z14: =F14/(I14/60) -> 61.032961
B15: immobile | C15: 24.5 | D15: =C15/100 -> 0.245 | E15: =C15/100 -> 0.245 | F15: 0 | G15: =CBA_1!$D$91 -> 0 | H15: 0 | I15: 0 | J15: =CBA_1!$E$91 -> 0 | K15: 0 | L15: 0 | M15: =L15*CBA_1!$D$79 -> 0 | N15: =LN(E15/$E$15)-M15 -> 0 | O15: =N15+M15 -> 0 | P15: =EXP(O15) -> 1 | Q15: =P15/$P$17 -> 0.245 | R15: =IF(Q15=E15,"T","F") -> T | T15: =P15 -> 1 | U15: =T15/$T$17 -> 0.36272703 | V15: =U15-Q15 -> 0.11772703 | W15: =V15*$U$4 -> 5478560.6 | X15: =W15*F15 -> 0
P17: =SUM(P8:P15) -> 4.0816327 | T17: =SUM(T8:T15) -> 2.7568941
T18: CS LOSS | U18: =(1/ABS(CBA_1!$D$79))*(LN(T17)-LN(P17))*U4 -> -1.8294211e+08
B21: REGIOSTAR 2 x DISTANCE SEGREGATION
B22: BASELINE SITUATION (NO ABS) | T22: ABS
T23: revoked mileage | U23: =C24*CBA_1!$K$15 -> 11217175
B24: share of revoked km | C24: =6.02147692526884/100 -> 0.060214769 | T24: revoked car trips | U24: =U23/F29 -> 4127467.7
B25: Urban <= 5km | T25: CO | U25: =U24/E29 -> 17608079 | Z25: Delta_n | AA25: AGG CS LOSS
B26: trip mode | C26: modal split [%] | E26: P_n | F26: D_n | G26: c_n | H26: C_n | I26: T_n | J26: lambda_n | K26: T_n | L26: GC_n | M26: V_n-ASC_n | N26: ASC_n | O26: V_n | P26: numerator | Q26: P_n | R26: test | T26: numerator | U26: P_n_1 | V26: difference | W26: change in trips | X26: distance change [km]
B27: Walk | C27: 44.550617 | D27: =C27/100 -> 0.44550617 | E27: =D27*(1-($C$34/100)) -> 0.33975511 | F27: 1.5473435 | G27: =CBA_1!$D$84 -> 0 | H27: =F27*G27 -> 0 | I27: 27.794446 | J27: =CBA_1!$E$84 -> 14.728812 | K27: =I27/60*J27 -> 6.8229863 | L27: =H27+K27 -> 6.8229863 | M27: =L27*CBA_1!$D$79 -> -0.68103845 | N27: =LN(E27/$E$34)-M27 -> 1.0396316 | O27: =N27+M27 -> 0.35859311 | P27: =EXP(O27) -> 1.4313143 | Q27: =P27/$P$36 -> 0.33975511 | R27: =IF(Q27=E27,"T","F") -> T | T27: =P27 -> 1.4313143 | U27: =T27/$T$36 -> 0.44378069 | V27: =U27-Q27 -> 0.10402557 | W27: =V27*$U$25 -> 1831690.4 | X27: =W27*F27 -> 2834254.3 | Z27: =X27+X44+X61+X78 -> 10329999 | AA27: =U37+U54+U71+U89 -> -1.8758023e+08
B28: Bike | C28: 12.205402 | D28: =C28/100 -> 0.12205402 | E28: =D28*(1-($C$34/100)) -> 0.093081715 | F28: 2.1354159 | G28: =CBA_1!$D$85 -> 0 | H28: =F28*G28 -> 0 | I28: 16.631155 | J28: =CBA_1!$E$85 -> 14.728812 | K28: =I28/60*J28 -> 4.0826192 | L28: =H28+K28 -> 4.0826192 | M28: =L28*CBA_1!$D$79 -> -0.40750788 | N28: =LN(E28/$E$34)-M28 -> -0.52864636 | O28: =N28+M28 -> -0.93615424 | P28: =EXP(O28) -> 0.39213299 | Q28: =P28/$P$36 -> 0.093081715 | R28: =IF(Q28=E28,"T","F") -> T | T28: =P28 -> 0.39213299 | U28: =T28/$T$36 -> 0.1215813 | V28: =U28-Q28 -> 0.028499582 | W28: =V28*$U$25 -> 501822.87 | X28: =W28*F28 -> 1071600.6 | Z28: =X28+X45+X62+X79 -> 12199641
B29: Car Driver | C29: 30.736856 | D29: =C29/100 -> 0.30736856 | E29: =D29*(1-($C$34/100)) -> 0.23440761 | F29: 2.7176895 | G29: =CBA_1!$D$86 -> 0.31540086 | H29: =F29*G29 -> 0.85716159 | I29: 13.901368 | J29: =CBA_1!$E$86 -> 10.157802 | K29: =I29/60*J29 -> 2.3534557 | L29: =H29+K29 -> 3.2106173 | M29: =L29*CBA_1!$D$79 -> -0.32046874 | N29: =LN(E29/$E$34)-M29 -> 0.30789828 | O29: =N29+M29 -> -0.012570457 | P29: =EXP(O29) -> 0.98750822 | Q29: =P29/$P$36 -> 0.23440761 | R29: =IF(Q29=E29,"T","F") -> T | T29: 0 | U29: =T29/$T$36 -> 0 | V29: =U29-Q29 -> -0.23440761 | W29: =V29*$U$25 -> -4127467.7 | X29: =W29*F29 -> -11217175 | Z29: =X29+X46+X63+X80 -> -1.8628611e+08
B30: Car Passenger | C30: 6.6756767 | D30: =C30/100 -> 0.066756767 | E30: =D30*(1-($C$34/100)) -> 0.050910525 | F30: 2.7764961 | G30: =CBA_1!$D$87 -> 0 | H30: =F30*G30 -> 0 | I30: 15.506822 | J30: =CBA_1!$E$87 -> 10.157802 | K30: =I30/60*J30 -> 2.6252537 | L30: =H30+K30 -> 2.6252537 | M30: =L30*CBA_1!$D$79 -> -0.2620405 | N30: =LN(E30/$E$34)-M30 -> -1.2775218 | O30: =N30+M30 -> -1.5395623 | P30: =EXP(O30) -> 0.21447495 | Q30: =P30/$P$36 -> 0.050910525 | R30: =IF(Q30=E30,"T","F") -> T | T30: =P30 -> 0.21447495 | U30: =T30/$T$36 -> 0.066498212 | V30: =U30-Q30 -> 0.015587687 | W30: =V30*$U$25 -> 274469.22 | X30: =W30*F30 -> 762062.73 | Z30: =X30+X47+X64+X81 -> 50582477
B31: Public Transport | C31: 5.4401358 | D31: =C31/100 -> 0.054401358 | E31: =D31*(1-($C$34/100)) -> 0.041487954 | F31: 2.7896261 | G31: =CBA_1!$D$88 -> 0.13914849 | H31: =F31*G31 -> 0.38817227 | I31: 30.995591 | J31: =CBA_1!$E$88 -> 10.157802 | K31: =I31/60*J31 -> 5.247451 | L31: =H31+K31 -> 5.6356233 | M31: =L31*CBA_1!$D$79 -> -0.56252145 | N31: =LN(E31/$E$34)-M31 -> -1.1817074 | O31: =N31+M31 -> -1.7442289 | P31: =EXP(O31) -> 0.17477971 | Q31: =P31/$P$36 -> 0.041487954 | R31: =IF(Q31=E31,"T","F") -> T | T31: =P31 -> 0.17477971 | U31: =T31/$T$36 -> 0.054190656 | V31: =U31-Q31 -> 0.012702702 | W31: =V31*$U$25 -> 223670.18 | X31: =W31*F31 -> 623956.18 | Z31: =X31+X48+X65+X82 -> 17564904
B32: Taxi | C32: 0.24969085 | D32: =C32/100 -> 0.0024969085 | E32: =D32*(1-($C$34/100)) -> 0.0019042103 | F32: 2.2241896 | G32: =CBA_1!$D$89 -> 2.5 | H32: =F32*G32 -> 5.5604741 | I32: 18.300006 | J32: =CBA_1!$E$89 -> 10.157802 | K32: =I32/60*J32 -> 3.0981305 | L32: =H32+K32 -> 8.6586046 | M32: =L32*CBA_1!$D$79 -> -0.86426125 | N32: =LN(E32/$E$34)-M32 -> -3.9613033 | O32: =N32+M32 -> -4.8255646 | P32: =EXP(O32) -> 0.0080220233 | Q32: =P32/$P$36 -> 0.0019042103 | R32: =IF(Q32=E32,"T","F") -> T | T32: =P32 -> 0.0080220233 | U32: =T32/$T$36 -> 0.0024872378 | V32: =U32-Q32 -> 0.00058302748 | W32: =V32*$U$25 -> 10265.994 | X32: =W32*F32 -> 22833.517 | Z32: =X32+X49+X66+X83 -> 794908.6
B33: Long-dist. PT | C33: 0.14162174 | D33: =C33/100 -> 0.0014162174 | E33: =D33*(1-($C$34/100)) -> 0.0010800459 | F33: 2.6411829 | G33: =CBA_1!$D$90 -> 0.13254387 | H33: =F33*G33 -> 0.35007259 | I33: 42.171125 | J33: =CBA_1!$E$90 -> 10.157802 | K33: =I33/60*J33 -> 7.1394319 | L33: =H33+K33 -> 7.4895045 | M33: =L33*CBA_1!$D$79 -> -0.74756717 | N33: =LN(E33/$E$34)-M33 -> -4.6450613 | O33: =N33+M33 -> -5.3926285 | P33: =EXP(O33) -> 0.0045499982 | Q33: =P33/$P$36 -> 0.0010800459 | R33: =IF(Q33=E33,"T","F") -> T | T33: =P33 -> 0.0045499982 | U33: =T33/$T$36 -> 0.0014107323 | V33: =U33-Q33 -> 0.00033068639 | W33: =V33*$U$25 -> 5822.752 | X33: =W33*F33 -> 15378.953 | Z33: =X33+X50+X67+X84 -> 27886409
B34: immobile | C34: 23.737282 | D34: =C34/100 -> 0.23737282 | E34: =C34/100 -> 0.23737282 | F34: 0 | G34: =CBA_1!$D$91 -> 0 | H34: 0 | I34: 0 | J34: =CBA_1!$E$91 -> 0 | K34: 0 | L34: 0 | M34: =L34*CBA_1!$D$79 -> 0 | N34: =LN(E34/$E$34)-M34 -> 0 | O34: =N34+M34 -> 0 | P34: =EXP(O34) -> 1 | Q34: =P34/$P$36 -> 0.23737282 | R34: =IF(Q34=E34,"T","F") -> T | T34: =P34 -> 1 | U34: =T34/$T$36 -> 0.31005118 | V34: =U34-Q34 -> 0.072678357 | W34: =V34*$U$25 -> 1279726.2 | X34: =W34*F34 -> 0 | Z34: =X34+X51+X68+X85 -> 0
P36: =SUM(P27:P34) -> 4.2127822 | T36: =SUM(T27:T34) -> 3.225274
T37: CS LOSS | U37: =(1/ABS(CBA_1!$D$79))*(LN(T36)-LN(P36))*U25 -> -47119153
T40: revoked mileage | U40: =C41*CBA_1!$K$15 -> 96136830
B41: share of revoked km | C41: =51.6070829179326/100 -> 0.51607083 | T41: revoked car trips | U41: =U40/F46 -> 4466804.6
B42: Urban > 5km | T42: CO | U42: =U41/E46 -> 10303545
B43: trip mode
B44: Walk | C44: 5.7484784 | D44: =C44/100 -> 0.057484784 | E44: =D44*(1-($C$51/100)) -> 0.043839458 | F44: 8.2097283 | G44: =CBA_1!$D$84 -> 0 | H44: =F44*G44 -> 0 | I44: 104.77625 | J44: =CBA_1!$E$84 -> 14.728812 | K44: =I44/60*J44 -> 25.720495 | L44: =H44+K44 -> 25.720495 | M44: =L44*CBA_1!$D$79 -> -2.567299 | N44: =LN(E44/$E$51)-M44 -> 0.8782013 | O44: =N44+M44 -> -1.6890977 | P44: =EXP(O44) -> 0.18468609 | Q44: =P44/$P$53 -> 0.043839458 | R44: =IF(Q44=E44,"T","F") -> T | T44: =P44 -> 0.18468609 | U44: =T44/$T$53 -> 0.077389402 | V44: =U44-Q44 -> 0.033549943 | W44: =V44*$U$42 -> 345683.34 | X44: =W44*F44 -> 2837966.3
B45: Bike | C45: 6.541206 | D45: =C45/100 -> 0.06541206 | E45: =D45*(1-($C$51/100)) -> 0.049885014 | F45: 14.411069 | G45: =CBA_1!$D$85 -> 0 | H45: =F45*G45 -> 0 | I45: 70.810068 | J45: =CBA_1!$E$85 -> 14.728812 | K45: =I45/60*J45 -> 17.38247 | L45: =H45+K45 -> 17.38247 | M45: =L45*CBA_1!$D$79 -> -1.7350365 | N45: =LN(E45/$E$51)-M45 -> 0.17512517 | O45: =N45+M45 -> -1.5599114 | P45: =EXP(O45) -> 0.2101547 | Q45: =P45/$P$53 -> 0.049885014 | R45: =IF(Q45=E45,"T","F") -> T | T45: =P45 -> 0.2101547 | U45: =T45/$T$53 -> 0.088061567 | V45: =U45-Q45 -> 0.038176553 | W45: =V45*$U$42 -> 393353.81 | X45: =W45*F45 -> 5668649.1
B46: Car Driver | C46: 56.845753 | D46: =C46/100 -> 0.56845753 | E46: =D46*(1-($C$51/100)) -> 0.43352116 | F46: 21.522506 | G46: =CBA_1!$D$86 -> 0.31540086 | H46: =F46*G46 -> 6.7882169 | I46: 37.872656 | J46: =CBA_1!$E$86 -> 10.157802 | K46: =I46/60*J46 -> 6.4117153 | L46: =H46+K46 -> 13.199932 | M46: =L46*CBA_1!$D$79 -> -1.3175553 | N46: =LN(E46/$E$51)-M46 -> 1.9198639 | O46: =N46+M46 -> 0.60230862 | P46: =EXP(O46) -> 1.8263302 | Q46: =P46/$P$53 -> 0.43352116 | R46: =IF(Q46=E46,"T","F") -> T | T46: 0 | U46: =T46/$T$53 -> 0 | V46: =U46-Q46 -> -0.43352116 | W46: =V46*$U$42 -> -4466804.6 | X46: =W46*F46 -> -96136830
B47: Car Passenger | C47: 15.996462 | D47: =C47/100 -> 0.15996462 | E47: =D47*(1-($C$51/100)) -> 0.12199336 | F47: 26.644666 | G47: =CBA_1!$D$87 -> 0 | H47: =F47*G47 -> 0 | I47: 42.475735 | J47: =CBA_1!$E$87 -> 10.157802 | K47: =I47/60*J47 -> 7.1910015 | L47: =H47+K47 -> 7.1910015 | M47: =L47*CBA_1!$D$79 -> -0.717772 | N47: =LN(E47/$E$51)-M47 -> 0.052106659 | O47: =N47+M47 -> -0.66566534 | P47: =EXP(O47) -> 0.51393148 | Q47: =P47/$P$53 -> 0.12199336 | R47: =IF(Q47=E47,"T","F") -> T | T47: =P47 -> 0.51393148 | U47: =T47/$T$53 -> 0.21535379 | V47: =U47-Q47 -> 0.093360425 | W47: =V47*$U$42 -> 961943.3 | X47: =W47*F47 -> 25630658
...

Sheet CBA_3
A1: Back to content overview
B3: DISCOUNTING
B5: Lifeexpectancy at screening threshold
B6: i | C6: Gender | D6: Lifeexpectancy | E6: Population | F6: T_i
B7: 65 | C7: male | D7: 17.71 | E7: 566841 | F7: =(D7*E7+D8*E8)/(E7+E8) -> 19.358661
B8: 65 | C8: female | D8: 20.91 | E8: 602401
B9: 70 | C9: male | D9: 14.18 | E9: 445925 | F9: =(D9*E9+D10*E10)/(E9+E10) -> 15.60101
B10: 70 | C10: female | D10: 16.86 | E10: 503311
B11: 75 | C11: male | D11: 10.94 | E11: 363449 | F11: =(D11*E11+D12*E12)/(E11+E12) -> 12.088316
B12: 75 | C12: female | D12: 13.05 | E12: 433983
B13: 80 | C13: male | D13: 8 | E13: 263460 | F13: =(D13*E13+D14*E14)/(E13+E14) -> 8.8887214
B14: 80 | C14: female | D14: 9.57 | E14: 343681
B15: 85 | C15: male | D15: 5.47 | E15: 229099 | F15: =(D15*E15+D16*E16)/(E15+E16) -> 6.1133985
B16: 85 | C16: female | D16: 6.53 | E16: 353820
B17: 90 | C17: male | D17: 3.55 | E17: 77684 | F17: =(D17*E17+D18*E18)/(E17+E18) -> 3.9902565
B18: 90 | C18: female | D18: 4.21 | E18: 155640
B19: 95 | C19: male | D19: 2.37 | E19: 15130 | F19: =(D19*E19+D20*E20)/(E19+E20) -> 2.6516507
B20: 95 | C20: female | D20: 2.75 | E20: 43329
B22: Distance driven at screening threshold
B23: i | C23: M_i
B24: 65 | C24: =CBA_1!G8 -> 6717.451
B25: 70 | C25: =CBA_1!G9 -> 5979.512
B26: 75 | C26: =CBA_1!G10 -> 3945.044
B27: 80 | C27: =CBA_1!G11 -> 3295.127
B28: 85 | C28: =CBA_1!G12 -> 1448.397
B29: 90 | C29: =CBA_1!G13 -> 1448.397
B30: 95 | C30: =CBA_1!G14 -> 1448.397
B32: s | C32: =CBA_1!C166 -> 0.017
B34: Age-distribution of revoked drivers
B35: i
B36: 65 | C36: =CBA_1!J8/CBA_1!$J$15 -> 0.060277384
B37: 70 | C37: =CBA_1!J9/CBA_1!$J$15 -> 0.19772058
B38: 75 | C38: =CBA_1!J10/CBA_1!$J$15 -> 0.28058093
B39: 80 | C39: =CBA_1!J11/CBA_1!$J$15 -> 0.20452054
B40: 85 | C40: =CBA_1!J12/CBA_1!$J$15 -> 0.16199874
B41: 90 | C41: =CBA_1!J13/CBA_1!$J$15 -> 0.075888148
B42: 95 | C42: =CBA_1!J14/CBA_1!$J$15 -> 0.019013676
B44: Weighting Factors per i (mileage)
C45: 65 | H45: 70 | M45: 75 | R45: 80 | W45: 85 | AB45: 90 | AG45: 95
C46: t | D46: Age | E46: mileage 65+t | H46: t | I46: Age | J46: mileage 70+t | M46: t | N46: Age | O46: mileage 75+t | R46: t | S46: Age | T46: mileage 80+t | W46: t | X46: Age | Y46: mileage 85+t | AB46: t | AC46: Age | AD46: mileage 90+t | AG46: t | AH46: Age | AI46: mileage 95+t
...

Sheet CBA_4
A1: Back to content overview
B3: RESULTS
B5: SOC | I5: NPV (Discounted Effects)
C6: Effect | D6: Value | E6: Unit
C7: SOC_me | D7: =CBA_1!F15*(CBA_1!D34*CBA_1!D41/2+CBA_1!D40*CBA_1!C164) -> 80630068 | E7: [€2024/year] | I7: =D7 -> 80630068
C8: SOC_ad | D8: =CBA_1!F15*(CBA_1!D44*CBA_1!D43/2+CBA_1!D44*CBA_1!D43*CBA_1!C164) -> 16500205 | E8: [€2024/year] | I8: =D8 -> 16500205
C9: SOC_ti | D9: =CBA_1!D49*CBA_1!D47*CBA_1!F15 -> 34525086 | E9: [€2024/year] | I9: =D9 -> 34525086
C10: SOC_fe | D10: =-CBA_1!F15*CBA_1!D48*CBA_1!C164 -> -22928177 | E10: [€2024/year] | I10: =D10 -> -22928177
C12: Δ SOC | D12: =SUM(D7:D10) -> 1.0872718e+08 | H12: Δ SOC | I12: =SUM(I7:I10) -> 1.0872718e+08
B14: Primary Markets
C16: SS_cs | D16: =CBA_2!AA27 -> -1.8758023e+08 | E16: [€2024/year] | H16: SS | I16: =D16*CBA_3!C70 -> -1.3888465e+09
C17: SS_fc | D17: =CBA_1!J15*CBA_1!D59*CBA_1!D125 -> 76058124 | E17: [€2024/year] | I17: =D17*CBA_3!C102 -> 7.3778743e+08
C18: EE_d | D18: =(CBA_1!D107*CBA_1!K15)+CBA_1!D97*(CBA_1!K15+(CBA_1!D94/100)*(CBA_1!D55-CBA_1!K15)) -> 28449516 | E18: [€2024/year] | I18: =D18*CBA_3!C70 -> 2.1064059e+08
C19: EE_de | D19: =-CBA_1!J15*CBA_1!D110*CBA_1!D111 -> -8921817.7 | E19: [€2024/year] | I19: =D19*CBA_3!C102 -> -86544404
B21: Secondary Markets
B23: Complements
C24: GOV_fu | D24: =-CBA_1!K15*(CBA_1!D136*CBA_1!D137*CBA_1!D138*(CBA_1!D135-CBA_1!D131)+CBA_1!E136*CBA_1!E137*CBA_1!E138*(CBA_1!E135-CBA_1!D131))*CBA_1!C165 -> -12066183 | E24: [€2024/year] | I24: =D24*CBA_3!C70 -> -89338178
C26: GOV_p^var | D26: =-(CBA_1!K15*CBA_1!D75*CBA_1!D142*(1-CBA_1!D131)*CBA_1!C165) -> -3126735.7 | E26: [€2024/year] | I26: =D26*CBA_3!C70 -> -23150392
C27: GOV_p^fix | D27: =-(CBA_1!J15*CBA_1!D141*CBA_1!D140*(1-CBA_1!D131)*CBA_1!C165) -> -157009.06 | E27: [€2024/year] | I27: =D27*CBA_3!C102 -> -1523036.7
C28: sum | D28: =SUM(D26:D27) -> -3283744.7 | I28: =SUM(I26:I27) -> -24673428
C30: GOV_vt | D30: =-CBA_1!J15*CBA_1!D59*CBA_1!D124*(1-CBA_1!D131)*CBA_1!C165 -> -6106333.6 | E30: [€2024/year] | I30: =D30*CBA_3!C102 -> -59233333
B32: Substitutes
C34: EE_Su | D34: =-(CBA_1!D148*CBA_1!E148+CBA_1!D149*CBA_1!E149+CBA_1!D152*CBA_1!E152) -> 7456725.5 | E34: [€2024/year] | I34: =D34*CBA_3!C70 -> 55209693
C36: GOV_Su | D36: =(CBA_1!D154*CBA_1!D90+CBA_1!D153*CBA_1!D88+CBA_1!D152*CBA_1!D89)*(CBA_1!D132-CBA_1!D131)*CBA_1!C165 -> -957461.79 | E36: [€2024/year] | I36: =D36*CBA_3!C70 -> -7089059.6
H39: Δ EE | I39: =SUM(I18,I19,I34) -> 1.7930587e+08
H40: Δ GOV | I40: =SUM(I24,I26,I27,I30,I36) -> -1.80334e+08
H41: Δ SS | I41: =I16+I17 -> -6.5105905e+08
H43: NPV | I43: =SUM(-I12,I41,I39,I40) -> -7.6081435e+08 | J43: =-(I7+I8+I9+I10)+I16+I17+I18+I19+I24+I26+I27+I30+I34+I36 -> -7.6081435e+08
H44: BCR | I44: =SUM(I39:I41)/I12 -> -5.9974622
G46: Extrapolation | H46: Pop Ger | I46: 83516593
H47: NPV/p | I47: =I43/I46 -> -9.1097389
H48: NPV/L_rev | I48: =I43/CBA_1!J15 -> -15275.016
H50: Pop total EU | I50: 449844969
H51: NPV EU | I51: =I47*I50 -> -4.0979702e+09
H53: Pop EU ABS | I53: 194272824
H54: NPV EU ABS | I54: =I47*I53 -> -1.7697747e+09

Sheet CBA_5
A1: Back to content overview
B3: PARTIAL SENSITIVITY ANALYSIS
C5: NPV base case | D5: -7.6081435e+08 | G5: Fields other than half/double
C6: NPV live | D6: =CBA_4!I43 -> -7.6081435e+08 | G6: Impact >= +-15%
C7: Diff | D7: =D5-D6 -> 0 | G7: NPV >= -100,000,000
C9: Parameter | D9: Change | E9: New NPV | F9: %change
C10: t_me | D10: double | E10: -7.8009198e+08 | F10: =(E10-$D$5)/$D$5 -> 0.025338151
D11: half | E11: -7.5117554e+08 | F11: =(E11-$D$5)/$D$5 -> -0.012669075
C12: c_me | D12: double | E12: -8.2216679e+08 | F12: =(E12-$D$5)/$D$5 -> 0.080640487
D13: half | E13: -7.3013813e+08 | F13: =(E13-$D$5)/$D$5 -> -0.040320243
C14: t_ad | D14: double | E14: -7.7731456e+08 | F14: =(E14-$D$5)/$D$5 -> 0.021687558
D15: half | E15: -7.5256425e+08 | F15: =(E15-$D$5)/$D$5 -> -0.010843779
C16: t_gp | D16: double | E16: -7.9533944e+08 | F16: =(E16-$D$5)/$D$5 -> 0.04537912
D17: half | E17: -7.4355181e+08 | F17: =(E17-$D$5)/$D$5 -> -0.02268956
C18: phi | D18: 0 | E18: -7.8374253e+08 | F18: =(E18-$D$5)/$D$5 -> 0.030136362
D19: double | E19: -7.3788618e+08 | F19: =(E19-$D$5)/$D$5 -> -0.030136362
D20: half | E20: -7.7227844e+08 | F20: =(E20-$D$5)/$D$5 -> 0.015068181
C21: s^in | D21: 0 | E21: -7.8516033e+08 | F21: =(E21-$D$5)/$D$5 -> 0.031999895
D22: double | E22: -7.3646837e+08 | F22: =(E22-$D$5)/$D$5 -> -0.031999895
D23: half | E23: -7.7298734e+08 | F23: =(E23-$D$5)/$D$5 -> 0.015999947
D24: +1% every threshold | E24: -7.5201236e+08 | F24: =(E24-$D$5)/$D$5 -> -0.011569167
C25: s_i^rev | D25: double | E25: -1.4129015e+09 | F25: =(E25-$D$5)/$D$5 -> 0.85709105
D26: half | E26: -4.3477077e+08 | F26: =(E26-$D$5)/$D$5 -> -0.42854552
D27: +1% every threshold | E27: -8.1333218e+08 | F27: =(E27-$D$5)/$D$5 -> 0.069028438
C28: lambda_c | D28: double | E28: -1.3688358e+09 | F28: =(E28-$D$5)/$D$5 -> 0.79917195
D29: half | E29: -4.7219609e+08 | F29: =(E29-$D$5)/$D$5 -> -0.37935438
C30: ε | D30: double | E30: -66391113 | F30: =(E30-$D$5)/$D$5 -> -0.91273678
D31: half | E31: -2.1496608e+09 | F31: =(E31-$D$5)/$D$5 -> 1.8254736
C32: sum_k c_k | D32: double | E32: -1.5085862e+09 | F32: =(E32-$D$5)/$D$5 -> 0.9828572
D33: half | E33: -3.7729329e+08 | F33: =(E33-$D$5)/$D$5 -> -0.50409283
C34: alpha | D34: double | E34: -66391113 | F34: =(E34-$D$5)/$D$5 -> -0.91273678
D35: half | E35: -2.1496608e+09 | F35: =(E35-$D$5)/$D$5 -> 1.8254736
C36: c_n | D36: double | E36: -1.4189526e+09 | F36: =(E36-$D$5)/$D$5 -> 0.86504441
D37: half | E37: -4.3174525e+08 | F37: =(E37-$D$5)/$D$5 -> -0.4325222
C38: sum e_m w/o crash | D38: double | E38: -6.4702055e+08 | F38: =(E38-$D$5)/$D$5 -> -0.14956842
D39: half | E39: -8.1771125e+08 | F39: =(E39-$D$5)/$D$5 -> 0.07478421
C40: e_cr | D40: double | E40: -6.6396757e+08 | F40: =(E40-$D$5)/$D$5 -> -0.12729358
D41: half | E41: -8.0923774e+08 | F41: =(E41-$D$5)/$D$5 -> 0.063646792
C42: s_de | D42: 0 | E42: -6.7426995e+08 | F42: =(E42-$D$5)/$D$5 -> -0.11375233
D43: double | E43: -8.4735876e+08 | F43: =(E43-$D$5)/$D$5 -> 0.11375233
...

Sheet CBA_6
A1: Back to content overview | AF1: Index | AG1: =CBA_4!I43 -> -7.6081435e+08 | AH1: =CBA_4!I44 -> -5.9974622 | AK1: results | AL1: Index | AM1: NPV | AN1: BCR
AF2: 1 | AL2: 1 | AM2: -2.743401e+08 | AN2: -0.27013002 | AQ2: NPV | AR2: BCR
B3: MONTE CARLO SIMULATION | AF3: 2 | AL3: 2 | AM3: 1.6270686e+09 | AN3: 15.652428 | AP3: mean | AQ3: =AVERAGE(AM2:AM25001) -> -2.8760579e+08 | AR3: =AVERAGE(AN2:AN25001) -> -0.69027562
C4: s_i^rev | K4: c_k | P4: e_m | Y4: c_n | AF4: 3 | AL4: 3 | AM4: -1.4225742e+09 | AN4: -11.662847 | AP4: %>=0/1 | AQ4: =COUNTIF(AM2:AM10001, ">0") / COUNT(AM2:AM10001) -> 0.3231 | AR4: =COUNTIF(AN2:AN10001, ">1") / COUNT(AN2:AN10001) -> 0.3231
B5: Variable | C5: s_65^rev | D5: s_70^rev | E5: s_75^rev | F5: s_80^rev | G5: s_85^rev | H5: s_90^rev | I5: s_95^rev | J5: ε | K5: c_d | L5: c_f | M5: c_m | N5: c_p | O5: c_t | P5: e_ap | Q5: e_c | R5: e_cc | S5: e_cr | T5: e_h | U5: e_n | V5: e_wtt | W5: lambda_c | X5: sum_j c_j_fix | Y5: c_tx | Z5: c_pt | AA5: c_lpt | AB5: MCPF | AC5: s | AD5: gamma | AF5: 4 | AL5: 4 | AM5: 98369042 | AN5: 1.4223911 | AP5: % < 0 | AQ5: =COUNTIF(AM2:AM10001, "<0") / COUNT(AM2:AM10001) -> 0.6769 | AR5: =COUNTIF(AN2:AN10001, "<1") / COUNT(AN2:AN10001) -> 0.6769
B6: default | C6: 0.28898468 | D6: 1.1781588 | E6: 1.9698481 | F6: 2.0225867 | G6: 2.0852974 | H6: 2.4405026 | I6: 2.4405026 | J6: -0.55947486 | K6: 0.083687882 | L6: 0.12948133 | M6: 0.070273795 | N6: 0.031957856 | O6: 0.35742603 | P6: 0.015107261 | Q6: 0.013399838 | R6: 0.024740747 | S6: 0.070216236 | T6: 0.013507449 | U6: 0.0065804062 | V6: 0.0091675273 | W6: 10.157802 | X6: 1992.9082 | Y6: 2.5 | Z6: 0.13914849 | AA6: 0.13254387 | AB6: 1.25 | AC6: 0.017 | AD6: 0 | AF6: 5 | AL6: 5 | AM6: 1.3083081e+09 | AN6: 6.7895147 | AP6: 50% Quantil | AQ6: =MEDIAN($AM$2:$AM$10001) -> -3.5051911e+08 | AR6: =MEDIAN(AN2:AN10001) -> -1.1426791
B7: Distribution | C7: Triangular | D7: Triangular | E7: Triangular | F7: Triangular | G7: Triangular | H7: Triangular | I7: Triangular | J7: Triangular | K7: Normal | L7: Normal | M7: Normal | N7: Normal | O7: Normal | P7: Normal | Q7: Normal | R7: Normal | S7: Normal | T7: Normal | U7: Normal | V7: Normal | W7: Triangular | X7: Triangular | Y7: Normal | Z7: Normal | AA7: Normal | AB7: Uniform | AC7: Uniform | AD7: Uniform | AF7: 6 | AL7: 6 | AM7: -5.1332917e+08 | AN7: -1.5914709 | AP7: 75% Quantil | AQ7: =_xlfn.PERCENTILE.INC($AM$2:$AM$10001,0.75) -> 1.9043426e+08 | AR7: =_xlfn.PERCENTILE.INC(AN2:AN10001,0.75) -> 2.2291681
B8: min | C8: =MIN(DATA_1!D30:D37) -> 0.084591124 | D8: =MIN(DATA_1!E30:E37) -> 0.084591124 | E8: =MIN(DATA_1!F30:F37) -> 0.39218413 | F8: =MIN(DATA_1!G30:G37) -> 0.79016385 | G8: =MIN(DATA_1!H30:H37) -> 0.79016385 | H8: =MIN(DATA_1!I30:I37) -> 0.79016385 | I8: =MIN(DATA_1!I30:I37) -> 0.79016385 | J8: 0.4 | W8: 7.5289644 | X8: 914.11406 | AB8: 1 | AC8: 0 | AD8: -1.4 | AF8: 7 | AL8: 7 | AM8: 1.8778685e+08 | AN8: 2.1267914 | AP8: 90% Quantil | AQ8: =_xlfn.PERCENTILE.INC($AM$2:$AM$10001,0.9) -> 6.9923507e+08 | AR8: =_xlfn.PERCENTILE.INC(AN2:AN10001,0.9) -> 5.8477551
B9: mode/mean | C9: =DATA_1!D38 -> 0.28898468 | D9: =DATA_1!E38 -> 1.1781588 | E9: =DATA_1!F38 -> 1.9698481 | F9: =DATA_1!G38 -> 2.0225867 | G9: =DATA_1!H38 -> 2.0852974 | H9: =DATA_1!I38 -> 2.4405026 | I9: =DATA_1!I38 -> 2.4405026 | J9: =-J6 -> 0.55947486 | K9: =K6 -> 0.083687882 | L9: =L6 -> 0.12948133 | M9: =M6 -> 0.070273795 | N9: =N6 -> 0.031957856 | O9: =O6 -> 0.35742603 | P9: =P6 -> 0.015107261 | Q9: =Q6 -> 0.013399838 | R9: =R6 -> 0.024740747 | ... AA9: =AA6 -> 0.13254387 | AF9: 8 | AL9: 8 | AM9: -9.7463825e+08 | AN9: -12.327901 | AP9: 95% Quantil | AQ9: =_xlfn.PERCENTILE.INC($AM$2:$AM$10001,0.95) -> 1.0190512e+09 | AR9: =_xlfn.PERCENTILE.INC(AN2:AN10001,0.95) -> 8.8376097
B10: max | C10: =MAX(DATA_1!D30:D37) -> 0.67001675 | D10: =MAX(DATA_1!E30:E37) -> 2.5518341 | E10: =MAX(DATA_1!F30:F37) -> 5.6947608 | F10: =MAX(DATA_1!G30:G37) -> 5.6947608 | G10: =MAX(DATA_1!H30:H37) -> 5.6947608 | H10: =MAX(DATA_1!I30:I37) -> 5.6947608 | I10: =MAX(DATA_1!I30:I37) -> 5.6947608 | J10: =0.53*1.59 -> 0.8427 | W10: 13.479885 | X10: 7560.1603 | AB10: 2.12 | AC10: 0.07 | AD10: 1.4027984 | AF10: 9 | AL10: 9 | AM10: 1.5744216e+08 | AN10: 2.3598813 | AP10: 99% Quantil | AQ10: =_xlfn.PERCENTILE.INC($AM$2:$AM$10001,0.99) -> 1.5935171e+09 | AR10: =_xlfn.PERCENTILE.INC(AN2:AN10001,0.99) -> 15.776507
B11: Standard dev | K11: =0.25*K9 -> 0.020921971 | L11: =0.25*L9 -> 0.032370331 | M11: =0.25*M9 -> 0.017568449 | N11: =0.25*N9 -> 0.0079894639 | O11: =0.25*O9 -> 0.089356508 | P11: =0.25*P9 -> 0.0037768152 | Q11: =0.25*Q9 -> 0.0033499595 | R11: =0.25*R9 -> 0.0061851867 | ... V11: =0.25*V9 -> 0.0022918818 | Y11: =0.25*Y9 -> 0.625 | Z11: =0.25*Z9 -> 0.034787124 | AA11: =0.25*AA9 -> 0.033135966 | AF11: 10 | AL11: 10 | AM11: -1.42545e+09 | AN11: -10.487953 | AP11: Max | AQ11: =MAX(AM2:AM25001) -> 2.8000206e+09 | AR11: =MAX(AN2:AN25001) -> 33.392298
B12: Value | C12: =_xlfn.LET(_xlpm.rand, RAND(), IF(_xlpm.rand<(C9-C8)/(C10-C8), C8+SQRT(_xlpm.rand*(C10-C8)*(C9-C8)), C10-SQRT((1-_xlpm.rand)*(C10-C8)*(C10-C9)))) -> 0.46109571 | D12: =_xlfn.LET(_xlpm.rand, RAND(), IF(_xlpm.rand<(D9-D8)/(D10-D8), D8+SQRT(_xlpm.rand*(D10-D8)*(D9-D8)), D10-SQRT((1-_xlpm.rand)*(D10-D8)*(D10-D9)))) -> 1.7915671 | E12: =_xlfn.LET(_xlpm.rand, RAND(), IF(_xlpm.rand<(E9-E8)/(E10-E8), E8+SQRT(_xlpm.rand*(E10-E8)*(E9-E8)), E10-SQRT((1-_xlpm.rand)*(E10-E8)*(E10-E9)))) -> 3.3351101 | F12: =_xlfn.LET(_xlpm.rand, RAND(), IF(_xlpm.rand<(F9-F8)/(F10-F8), F8+SQRT(_xlpm.rand*(F10-F8)*(F9-F8)), F10-SQRT((1-_xlpm.rand)*(F10-F8)*(F10-F9)))) -> 4.202557 | G12: =_xlfn.LET(_xlpm.rand, RAND(), IF(_xlpm.rand<(G9-G8)/(G10-G8), G8+SQRT(_xlpm.rand*(G10-G8)*(G9-G8)), G10-SQRT((1-_xlpm.rand)*(G10-G8)*(G10-G9)))) -> 3.801642 | H12: =_xlfn.LET(_xlpm.rand, RAND(), IF(_xlpm.rand<(H9-H8)/(H10-H8), H8+SQRT(_xlpm.rand*(H10-H8)*(H9-H8)), H10-SQRT((1-_xlpm.rand)*(H10-H8)*(H10-H9)))) -> 4.3802806 | I12: =_xlfn.LET(_xlpm.rand, RAND(), IF(_xlpm.rand<(I9-I8)/(I10-I8), I8+SQRT(_xlpm.rand*(I10-I8)*(I9-I8)), I10-SQRT((1-_xlpm.rand)*(I10-I8)*(I10-I9)))) -> 1.2044472 | J12: =-_xlfn.LET(_xlpm.rand, RAND(), IF(_xlpm.rand<(J9-J8)/(J10-J8), J8+SQRT(_xlpm.rand*(J10-J8)*(J9-J8)), J10-SQRT((1-_xlpm.rand)*(J10-J8)*(J10-J9)))) -> -0.4927853 | K12: =_xlfn.NORM.INV(RAND(), K9, K11) -> 0.095945841 | L12: =_xlfn.NORM.INV(RAND(), L9, L11) -> 0.095201843 | M12: =_xlfn.NORM.INV(RAND(), M9, M11) -> 0.051530828 | N12: =_xlfn.NORM.INV(RAND(), N9, N11) -> 0.026552183 | O12: =_xlfn.NORM.INV(RAND(), O9, O11) -> 0.39903141 | P12: =_xlfn.NORM.INV(RAND(), P9, P11) -> 0.019185058 | Q12: =_xlfn.NORM.INV(RAND(), Q9, Q11) -> 0.0089192527 | R12: =_xlfn.NORM.INV(RAND(), R9, R11) -> 0.027570635 | ... V12: =_xlfn.NORM.INV(RAND(), V9, V11) -> 0.0078400399 | W12: =_xlfn.LET(_xlpm.rand, RAND(), IF(_xlpm.rand<(W9-W8)/(W10-W8), W8+SQRT(_xlpm.rand*(W10-W8)*(W9-W8)), W10-SQRT((1-_xlpm.rand)*(W10-W8)*(W10-W9)))) -> 10.679984 | X12: =_xlfn.LET(_xlpm.rand, RAND(), IF(_xlpm.rand<(X9-X8)/(X10-X8), X8+SQRT(_xlpm.rand*(X10-X8)*(X9-X8)), X10-SQRT((1-_xlpm.rand)*(X10-X8)*(X10-X9)))) -> 2820.0062 | Y12: =_xlfn.NORM.INV(RAND(), Y9, Y11) -> 2.4768842 | Z12: =_xlfn.NORM.INV(RAND(), Z9, Z11) -> 0.18479533 | AA12: =_xlfn.NORM.INV(RAND(), AA9, AA11) -> 0.17424268 | AB12: =RAND()*(AB10 - AB8)+AB8 -> 1.4926507 | AC12: =RAND()*(AC10 - AC8)+AC8 -> 0.065618307 | AD12: =_xlfn.LET(_xlpm.rand, RAND(), IF(_xlpm.rand<(AD9-AD8)/(AD10-AD8), AD8+SQRT(_xlpm.rand*(AD10-AD8)*(AD9-AD8)), AD10-SQRT((1-_xlpm.rand)*(AD10-AD8)*(AD10-AD9)))) -> 0.95013367 | AF12: 11 | AL12: 11 | AM12: 9.7142975e+08 | AN12: 5.0098473 | AP12: Min | AQ12: =MIN(AM2:AM25001) -> -2.8417296e+09 | AR12: =MIN(AN2:AN25001) -> -26.696066
AF13: 12 | AL13: 12 | AM13: 3.9178865e+08 | AN13: 4.2222556
AF14: 13 | AL14: 13 | AM14: -5.5299778e+08 | AN14: -6.7307731
AF15: 14 | AL15: 14 | AM15: 83800300 | AN15: 1.3424689
AF16: 15 | AL16: 15 | AM16: -1.1517129e+09 | AN16: -4.8331989
AF17: 16 | AL17: 16 | AM17: 2.9366454e+08 | AN17: 4.9401558
AF18: 17 | AL18: 17 | AM18: 1.2480547e+09 | AN18: 6.1278422
AF19: 18 | AL19: 18 | AM19: -1.1176264e+09 | AN19: -4.92948
AF20: 19 | AL20: 19 | AM20: 2.4117836e+08 | AN20: 2.9825363
AF21: 20 | AL21: 20 | AM21: 4.0982643e+08 | AN21: 2.9193676
AF22: 21 | AL22: 21 | AM22: -8.1125773e+08 | AN22: -3.8817321
AF23: 22 | AL23: 22 | AM23: -9.0516937e+08 | AN23: -5.2333047
AF24: 23 | AL24: 23 | AM24: -4.9583121e+08 | AN24: -2.3495315
... AF10001: 10000 | AL10001: 10000 | AM10001: 6.7459172e+08 | AN10001: 9.8600946

Sheet DATA_1
A1: Back to content overview
B3: S_REV AND S_IN
B5: DERIVATION S_REV
B7: year | C7: 2013 | D7: 2022 | E7: 2001 | F7: 2018 | G7: 2022 | H7: 2024 | I7: 2024 | K7: 2023
B8: country | C8: NL | D8: NO | E8: DK | F8: CH | G8: CH | H8: CH | I8: ES | K8: ES | M8: MEAN (%)
B9: age group | C9: Hollander et al. (2013) | D9: Milch et al. (2013) | E9: Hansen and Hansen (2001) | F9: Sebo et al. (2018) | G9: Huwiler et al. (2022) | H9: ASTRA (2025) | I9: Castro et. al (2024) (unfit only) | J9: Castro et. al (2024) (unfit + discontinued) | K9: Mirabet et. al (2023) (unfit only) | L9: Mirabet et. al (2023) (unfit + discontinued) | M9: .
B10: 65-69 | C10: - | D10: - | E10: - | F10: - | G10: - | H10: 0.084591124 | I10: =F20/SUM(C20:F20) -> 2.8933893e-05 | J10: =100*(F20+E20)/SUM(C20:F20) -> 0.11234618 | K10: 0.2 | L10: =100*(1+3)/597 -> 0.67001675 | M10: =AVERAGE(J10,L10,H10) -> 0.28898468
B11: 70-74 | C11: =799*100/211184 -> 0.37834306 | D11: - | E11: =AVERAGE(0.6,1.5) -> 1.05 | F11: 2.2 | G11: 1.8 | H11: 0.084591124 | I11: =F21/SUM(C21:F21) -> 8.7518996e-05 | J11: =100*(F21+E21)/SUM(C21:F21) -> 0.1823433 | K11: 1.1 | L11: =100*(6+10)/627 -> 2.5518341 | M11: =AVERAGE(C11,E11,F11,G11,J11,L11,H11) -> 1.1781588
B12: 75-79 | C12: =591*100/31743 -> 1.8618278 | D12: - | E12: =AVERAGE(0.6,1.5) -> 1.05 | F12: 2.2 | G12: 1.8 | H12: 0.79016385 | I12: =F22/SUM(C22:F22) -> 0.00026958647 | J12: =100*(F22+E22)/SUM(C22:F22) -> 0.39218413 | K12: 2.6 | L12: =100*(14+11)/439 -> 5.6947608 | M12: =AVERAGE(C12,E12,F12,G12,H12,J12,L12) -> 1.9698481
B13: 80-84 | C13: =954*100/57202 -> 1.6677739 | D13: =AVERAGE(1450/(130538-30676),2900/(130538-30676))*100 -> 2.1780056 | E13: =AVERAGE(0.6,1.5) -> 1.05 | F13: 2.2 | G13: 1.8 | H13: 0.79016385 | I13: =F23/SUM(C23:F23) -> 0.00065391094 | J13: =100*(F23+E23)/SUM(C23:F23) -> 0.79998929 | K13: 2.6 | L13: =100*(14+11)/439 -> 5.6947608 | M13: =AVERAGE(C13,D13,E13,F13,G13,H13,J13,L13) -> 2.0225867
B14: 85-89 | C14: =954*100/57202 -> 1.6677739 | D14: =AVERAGE(1450/(130538-30676),2900/(130538-30676))*100 -> 2.1780056 | E14: =AVERAGE(0.6,1.5) -> 1.05 | F14: 2.2 | G14: 1.8 | H14: 0.79016385 | I14: =F24/SUM(C24:F24) -> 0.0014458853 | J14: =100*(F24+E24)/SUM(C24:F24) -> 1.3016753 | K14: 2.6 | L14: =100*(14+11)/439 -> 5.6947608 | M14: =AVERAGE(C14,D14,E14,F14,G14,H14,J14,L14) -> 2.0852974
B15: >90 | C15: =91*100/(2015+3) -> 4.5094153 | D15: =AVERAGE(1450/(130538-30676),2900/(130538-30676))*100 -> 2.1780056 | E15: =AVERAGE(0.6,1.5) -> 1.05 | F15: 2.2 | G15: 1.8 | H15: 0.79016385 | I15: =F24/SUM(C24:F24) -> 0.0014458853 | J15: =100*(F24+E24)/SUM(C24:F24) -> 1.3016753 | K15: 2.6 | L15: =100*(14+11)/439 -> 5.6947608 | M15: =AVERAGE(C15,D15,E15,F15,G15,H15,J15,L15) -> 2.4405026
D16: 1.1-2.2% | E16: 0.6-1.5%
B18: Supplementary calculations
B19: Castro et. al (2024) | C19: Fit | D19: Restrictions | E19: Discontinued | F19: unfit | H19: ASTRA (2025) | J19: Milch et al. (2013) | K19: lower bound (with active driver pop) | L19: upper bound (with active driver pop) | M19: (with full driver pop) | N19: (with full driver pop)
B20: 65-69 | C20: 395581 | D20: 812714 | E20: 1324 | F20: 35 | H20: 2024 65-74 | I20: 2024 75+ | J20: s_rev | K20: =1450/(130538-30676) -> 0.014520038 | L20: =2900/(130538-30676) -> 0.029040075 | M20: =1450/(130538) -> 0.011107877 | N20: =2900/(130538) -> 0.022215753
B21: 70-74 | C21: 358248 | D21: 1021788 | E21: 2400 | F21: 121 | G21: Ausweisentzüge wegen Krankheit | H21: =17+325+14+396 -> 752 | I21: =93+4037 -> 4130
B22: 75-79 | C22: 135017 | D22: 796082 | E22: 3414 | F22: 252 | H22: =7468/7539 -> 0.99058231
B23: 80-84 | C23: 30720 | D23: 488103 | E23: 3842 | F23: 342 | H23: =H21*H22 -> 744.91789 | I23: =I21*H22 -> 4091.1049
B24: 85 and over | C24: 5829 | D24: 254930 | E24: 3057 | F24: 382 | H24: 880610 | I24: 517754
H25: =H23/H24 *100 -> 0.084591124 | I25: =I23/I24 *100 -> 0.79016385
B29: Country | C29: Reference | D29: 65-69 | E29: 70-74 | F29: 75-79 | G29: 80-84 | H29: 85-89 | I29: 90+ | J29: tnote
B30: CH | C30: \textcite{Sebo.2018}\tnote{a} | D30: - | E30: 2.2 | F30: 2.2 | G30: 2.2 | H30: 2.2 | I30: 2.2 | J30: \item[a] Mean value reported for 70+.
B31: CH | C31: \textcite{Huwiler.2022}\tnote{b} | D31: - | E31: 1.8 | F31: 1.8 | G31: 1.8 | H31: 1.8 | I31: 1.8 | J31: \item[b] Midpoint of the reported interval (0.2\% reported by drivers, 3.3\% reported by licensing agencies) for 70+.
B32: CH | C32: \textcite{ASTRA.2025.gesamtbericht}\tnote{c} | D32: 0.084591124 | E32: 0.084591124 | F32: 0.79016385 | G32: 0.79016385 | H32: 0.79016385 | I32: 0.79016385 | J32: \item{c} Calculated based on \textcite{ASTRA.2025.gesamtbericht} and \textcite{ASTRA.2026.Führausweisstat} (e.g. 75+: 93 + 4,037 = 4130 drivers had their license revoked due to illness or medical conditions. Multiplied by the share of standard driving licenses among revoked licenses of these drivers (7,468$/$7,539 $=$ 0.99; \cite{ASTRA.2024}) and divided by the total number of driving licenses above age 75 (517,754; \cite{ASTRA.2026.Führausweisstat}) returns 0.79\%).
B33: DK | C33: \textcite{Hansen.2001}\tnote{d} | D33: - | E33: 1.05 | F33: 1.05 | G33: 1.05 | H33: 1.05 | I33: 1.05 | J33: \item[d] Midpoint of the reported interval (0.6\% without, 1.5\% with cognitive test as part of ABS) for 70+.
B34: ES | C34: \textcite{Mirabet.2023}\tnote{e} | D34: 0.67001675 | E34: 2.5518341 | F34: 5.6947608 | G34: 5.6947608 | H34: 5.6947608 | I34: 5.6947608 | J34: \item[e] We combined 'revoked' and 'interrupted' categories, as both lead to lost driving privileges, with the latter group failing to complete the renewal process instead of formally being revoked.
B35: ES | C35: \textcite{Castro.2024}\tnote{e} | D35: 0.11234618 | E35: 0.1823433 | F35: 0.39218413 | G35: 0.79998929 | H35: 1.3016753 | I35: 1.3016753 | J35: \item[e] We combined 'revoked' and 'interrupted' categories, as both lead to lost driving privileges, with the latter group failing to complete the renewal process instead of formally being revoked.
B36: NL | C36: \textcite{Hollander.2013} | D36: - | E36: =799*100/211184 -> 0.37834306 | F36: =591*100/31743 -> 1.8618278 | G36: =954*100/57202 -> 1.6677739 | H36: =954*100/57202 -> 1.6677739 | I36: =91*100/(2015+3) -> 4.5094153
B37: NO | C37: \textcite{Milch.2022}\tnote{f} | D37: - | E37: - | F37: - | G37: =AVERAGE(1450/(130538-30676),2900/(130538-30676))*100 -> 2.1780056 | H37: =AVERAGE(1450/(130538-30676),2900/(130538-30676))*100 -> 2.1780056 | I37: =AVERAGE(1450/(130538-30676),2900/(130538-30676))*100 -> 2.1780056 | J37: \item[f] Midpoint calculated using the estimated active driver population (99,862), where 1,450 to 2,900 were denied a medical certificate.
B38: Average | D38: =AVERAGE(D32,D34,D35) -> 0.28898468 | E38: =AVERAGE(E30,E31,E32,E33,E34,E35,E36) -> 1.1781588 | F38: =AVERAGE(F30,F31,F32,F33,F34,F35,F36) -> 1.9698481 | G38: =AVERAGE(G30:G37) -> 2.0225867 | H38: =AVERAGE(H30:H37) -> 2.0852974 | I38: =AVERAGE(I30:I37) -> 2.4405026
B42: DERIVATION S_IN
D44: s_in %
B45: 2013 | C45: Hollander et al. (2013) | D45: 0.15
B46: 2022 | C46: Huwiler et al. (2022) | D46: 3.5
B47: 2016 | C47: Siren | D47: =101/1537*100 -> 6.5712427
B48: 2022 | C48: Milch et al. (2013) | D48: =AVERAGE(((130538*0.03848)-1450)/(130538),((130538*0.03848)-2900)/(130538))*100 -> 2.1818185
C50: mean | D50: =AVERAGE(D45:D48) -> 3.1007653

Sheet DATA_2
A1: Back to content overview
B3: USA 2019, from FTS (2019): Driver Licensing Policies And Practices
C5: Table 2 (https://lpp.seniordrivers.org/blog/policies/3-license-renewal-requirements-table-2/) | L5: Table 1 (https://lpp.seniordrivers.org/blog/policies/2-license-renewal-requirements-table-1/)
B6: State | C6: Asked to report medical conditions during routine license renewal | D6: Other routine requirements for license renewal | E6: More frequent renewal | F6: In-person renewal | G6: Vision testing | H6: Road testing | I6: Medical report | J6: Other | K6: Additional information on renewal requirements for older drivers | L6: Standard length of license renewal | M6: Length of license renewal for older drivers | N6: Standard frequency for required in-person renewal | O6: Required in-person renewal frequency for older drivers | P6: Visual acuity tested during routine in-person license renewal | Q6: Visual fields tested during routine in-person license renewal | R6: Contrast sensitivity tested during routine in-person license renewal
B7: AK | C7: Yes, all renewals | D7: May not renew by mail if ages 69+ on the expiration date of the driver's license being renewed | E7: No | F7: Yes | G7: No | H7: No | I7: No | J7: No | L7: 8 years | M7: Same as standard | N7: Every other renewal | O7: Every renewal ages 69+ | P7: Yes | Q7: Yes | R7: No
B8: AL | C8: Yes, in-person renewal only | D8: None | E8: No | F8: No | G8: No | H8: No | I8: No | J8: No | L8: 4 years | M8: Same as standard | N8: Every other renewal | O8: Same | P8: Yes | Q8: Yes | R8: No
B9: AR | C9: No, not asked to report | D9: None | E9: No | F9: No | G9: No | H9: No | I9: No | J9: No | L9: 8 years | M9: 4 or 8 years ages 70+ (option of driver) | N9: Every renewal | O9: Same | P9: Yes | Q9: Yes | R9: No
B10: AZ | C10: Yes, in-person renewal only | D10: None | E10: Yes | F10: No | G10: Yes | H10: No | I10: No | J10: No | L10: 12 years | M10: 5 years ages 65+ | N10: Every renewal | O10: Same | P10: Ages 65+ (or may submit vision report from doctor) | Q10: Ages 65+ | R10: No
B11: CA | C11: Yes, all renewals | D11: Written knowledge test | E11: No | F11: Yes | G11: No | H11: No | I11: No | J11: No | L11: 5 years | M11: Same as standard | N11: Every 3rd renewal with good driving record prior to age 70 | O11: Every renewal ages 70+ | P11: Yes | Q11: No | R11: No
B12: CO | C12: Yes, all renewals | D12: None | E12: No | F12: No | G12: No | H12: No | I12: No | J12: Persons over 65 can renew by mail if they submit an application signed by an Optometrist/ Ophthalmologist | L12: 5 years | M12: Same as standard | N12: Every 3rd renewal or anytime a photo is more than 10 years old | O12: Same. Drivers over 65 cannot renew online, but may renew by mail with doctor approval. | P12: Yes | Q12: Yes | R12: No
B13: CT | C13: No, not asked to report | D13: None | E13: No | F13: No | G13: No | H13: No | I13: No | J13: No | L13: 4 or 6 years (option of driver) | M13: 2 year option available ages 65+ | N13: Every renewal | O13: Same | P13: No | Q13: No | R13: No
B14: DC | C14: Yes, in-person renewal only | D14: Physician certification of medical fitness on license application ages 70+ | E14: No | F14: Yes | G14: No | H14: No | I14: No | J14: No | L14: 8 years | M14: Same as standard | N14: Every other renewal | O14: Every renewal ages 70+ | P14: Yes | Q14: Yes | R14: No
B15: DE | C15: Yes, in-person renewal only | D15: During the first 5 years of the new renewal cycle law, driver's licenses may be issued for less than 8 years so that the number of renewals can be more evenly distributed over an 8-year period. | E15: No | F15: No | G15: No | H15: No | I15: No | J15: No | M15: Same as standard | N15: Every renewal | O15: Same | P15: Yes | Q15: No | R15: No
B16: FL | C16: Yes, in-person renewal only | D16: None | E16: Yes | F16: No | G16: Yes | H16: No | I16: No | J16: No | L16: 8 years | M16: 6 years ages 80+ | N16: Every other renewal | O16: Same | P16: Yes and 80+ must pass vision test or submit form at every renewal (regardless of location) | Q16: No | R16: No
B17: GA | C17: Yes, all renewals | D17: Customers are required to complete the driver's license/ID card application form, provide any required documents, and submit payment | E17: No | F17: No | G17: Yes | H17: No | I17: No | J17: No | L17: 8 years | M17: Same as standard | N17: Every other renewal | O17: Same | P17: Ages 64+ | Q17: Ages 64+ | R17: No
B18: HI | C18: Yes, all renewals | D18: None | E18: Yes | F18: No | G18: No | H18: No | I18: No | J18: No | L18: 8 years | M18: 2 years ages 72+ | N18: Every renewal (May renew by mail if out of state at time of expiration, non-in-person renewal must provide a doctor's vision results, documents valid up to 16 years) | O18: Same | P18: Yes | Q18: Yes | R18: No
B19: IA | C19: Yes, all renewals | D19: None | E19: Yes | F19: Yes | G19: Yes | H19: No | I19: No | J19: No | L19: 8 years | M19: 2 years ages 72+ | N19: Every other renewal | O19: Every renewal ages 70+ | P19: Yes | Q19: Yes | R19: No
B20: ID | C20: Yes, in-person renewal only | D20: None | E20: Yes | F20: Yes | G20: No | H20: No | I20: No | J20: No | L20: 4 or 8 years (option of driver) | M20: 4 years ages 63+ | N20: Every 8 years | O20: Every 4 years ages 63+ | P20: Yes | Q20: No | R20: No
B21: IL | C21: Yes, in-person renewal only | D21: Road test for ages 75+; written test every other cycle | E21: Yes | F21: Yes | G21: No | H21: Yes | I21: Yes | J21: No | L21: 4 years | M21: 2 years ages 81-86, 1 year ages 87+ | N21: Every other renewal | O21: Every renewal ages 75+ | P21: Yes | Q21: Yes | R21: No
B22: IN | C22: Yes, in-person renewal only | D22: If you are renewing a driver's license that is not expired because your last renewal was online, you must pass a standard vision screening or submit Vision Screening Documentation (State Form 56520) completed by a licensed Ophthalmologist or licensed Optometrist.https://www.in.gov/bmv/2566.htm | E22: Yes | F22: Yes | G22: No | H22: No | I22: No | J22: No | L22: 6 years | M22: 3 years ages 75-84, 2 years ages 85+ | N22: Every other renewal | O22: Every renewal ages 75+ | P22: Yes | Q22: No | R22: No
B23: KS | C23: Yes, in-person renewal only | D23: Submit proof of identity and proof of address if you have moved since last issuance | E23: Yes | F23: Yes | G23: No | H23: No | I23: No | J23: No | L23: 6 years | M23: 4 years ages 65+ | N23: Every other renewal (Online renewal began for driver's renewing that are between the ages of 21 and 49.) | O23: Every renewal ages 50+ | P23: Yes | Q23: No | R23: No
B24: KY | C24: Yes, in-person renewal only | D24: Proof of address | E24: No | F24: No | G24: No | H24: No | I24: No | J24: No | L24: 4 or 8 years (option of driver) | M24: Same as standard | N24: Every renewal | O24: Same | P24: No | Q24: No | R24: No
B25: LA | C25: Yes, in-person renewal only | D25: None | E25: No | F25: Yes | G25: No | H25: No | I25: No | J25: No | L25: 6 years | M25: Same as standard | N25: Every other renewal | O25: Every renewal ages 70+ | P25: Yes | Q25: No | R25: No
B26: MA | C26: Yes, in-person renewal only | D26: None | E26: No | F26: Yes | G26: No | H26: No | I26: No | J26: No | L26: 5 years | M26: Same as standard | N26: Every other renewal | O26: Every renewal ages 75+ | P26: Yes | Q26: Yes | R26: No
B27: MD | C27: Yes, in-person renewal only | D27: Drivers ages 40+ renewing by mail must submit a report from a vision specialist; medical report and approval for new drivers ages 70+ | E27: No | F27: No | G27: No | H27: No | I27: No | J27: No | L27: 8 years | M27: Same as standard | N27: Every other renewal | O27: Same | P27: Yes | Q27: Yes | R27: No
... B32: MS | C32: Yes, in-person renewal only | D32: None | E32: No | F32: Yes | G32: No | H32: No | I32: No | J32: No | L32: 4 or 8 years | M32: Same as standard | N32: Every other renewal | O32: Every renewal ages 71+ | P32: No | Q32: No | R32: No
B33: MT | C33: Yes, in-person renewal only | D33: A vision test is required for all in-person driver license renewals. For all mail-in or online renewals, a medical and eye evaluation is required by Montana State law. | E33: Yes | F33: Yes | G33: No | H33: No | I33: No | J33: No | K33: Must be able to pass vision test, and any further testing (written or drive tests) required by their doctor, prior to license renewal. | L33: 8 years | M33: 4 years ages 75+ | N33: Every renewal or every other renewal if temporarily residing out of state or in a county without license services | O33: Every renewal ages 75+ | P33: Yes | Q33: CDL drivers only | R33: No
B34: NC | C34: Yes, in-person renewal only | D34: Traffic sign recognition test | E34: Yes | F34: No | G34: No | H34: No | I34: No | J34: No | L34: 8 years | M34: 5 years ages 66+ | N34: Every other renewal | O34: Same | P34: Yes | Q34: Yes | R34: No
B35: ND | C35: Yes, all renewals | D35: None | E35: Yes | F35: Yes | G35: No | H35: No | I35: No | J35: No | L35: 6 years | M35: 4 years ages 78+ | N35: Every other renewal | O35: Every renewal ages 65+ | P35: Yes | Q35: Yes | R35: No
B36: NE | C36: Yes, all renewals | D36: None | E36: No | F36: No | G36: No | H36: No | I36: No | J36: No | L36: 5 years | M36: Same as standard | N36: Every other renewal | O36: Same | P36: Yes | Q36: Yes | R36: No
B37: NH | C37: No, not asked to report | D37: Road test no longer required | E37: No | F37: No | G37: No | H37: No | I37: No | J37: No | L37: 5 years | M37: Same as standard | N37: Every renewal (Every other renewal if eligible for online renewal, indicated by a Renewal Identification Number on license) | O37: Same | P37: Yes | Q37: No | R37: No
B38: NJ | C38: Yes, in-person renewal only | D38: None | E38: No | F38: No | G38: No | H38: No | I38: No | J38: No | L38: 4 years | M38: Same as standard | N38: Every other renewal | O38: Same | P38: No | Q38: No | R38: No
B39: NM | C39: Yes, all renewals | D39: None | E39: Yes | F39: No | G39: Yes | H39: No | I39: No | J39: No | L39: 4 or 8 years (option of driver) | M39: 1 year ages 79+ | N39: Every renewal | O39: Same | P39: Yes | Q39: No | R39: No
B40: NV | C40: Yes, all renewals | D40: Application completed every time | E40: Yes | F40: No | G40: No | H40: No | I40: No | J40: No | K40: Physician report and vision test required if done by mail and ages 71+ | L40: 8 years | M40: 4 years ages 65+ | N40: Every renewal | O40: Every other renewal. If by mail and over 71, physician report and vision report must be completed. | P40: Yes | Q40: Yes | R40: No
B41: NY | C41: Yes, all renewals | D41: None | E41: No | F41: No | G41: No | H41: No | I41: No | J41: No | L41: 8 years | M41: Same as standard | N41: Not required | O41: Same | P41: Yes | Q41: No | R41: No
B42: OH | C42: Yes, in-person renewal only | D42: None | E42: No | F42: No | G42: No | H42: No | I42: No | J42: No | L42: 4 years | M42: Same as standard | N42: Every renewal | O42: Same | P42: Yes | Q42: Yes | R42: No
B43: OK | C43: Yes, in-person renewal only | D43: None | E43: No | F43: No | G43: No | H43: No | I43: No | J43: No | L43: 4 years | M43: Same as standard | N43: Every renewal | O43: Same | P43: No | Q43: No | R43: No
B44: OR | C44: Yes, in-person renewal only | D44: None | E44: No | F44: No | G44: Yes | H44: No | I44: No | J44: No | L44: 8 years | M44: Same as standard | N44: Every renewal | O44: Same | P44: Ages 50+ | Q44: Ages 50+ | R44: No
B45: PA | C45: No, not asked to report | D45: Random requests for medical report | E45: No | F45: No | G45: No | H45: No | I45: No | J45: No | L45: 4 years | M45: 2 year option available ages 65+ | N45: Not required | O45: Same | P45: No | Q45: No | R45: No
B46: RI | C46: Yes, in-person renewal only | D46: None | E46: Yes | F46: No | G46: No | H46: No | I46: No | J46: No | L46: 5 years | M46: 2 years ages 75+ | N46: Every renewal | O46: Same | P46: Yes | Q46: No | R46: No
...

Sheet DATA_3
A1: Back to content overview
B3: Data extracted on Residence Parking Permits from DUH (2025) and Gieße (2025)
B5: Residence Parking permit (RPP) price data | G5: City | H5: Cologne | I5: Aachen | J5: Münster
B6: DUH (2025) https://www.duh.de/fileadmin/user_upload/download/Pressemitteilungen/Verkehr/Grafik_Anwohnerparken_Gebuehren_250327.pdf | C6: ADAC (2025) https://www.adac.de/verkehr/recht/verkehrsvorschriften-deutschland/anwohnerparkausweis/ | D6: . | G6: Year | H6: 2022 | I6: 2024 | J6: 2023
B7: 360 | C7: 90 | G7: Price [€] | H7: 30 \parencite{Baumanns.2023} | I7: 30 \parencite{StadtAachen.2025} | J7: 17 \parencite[p. 3]{StadtMunster.2023}
B8: 270 | C8: 360 | G8: \acs{RPP}s | H8: 61,020 \parencite{Baumanns.2023} | I8: 21,743 \parencite{StadtAachen.2025} | J8: 6,586 \parencite[p. 3]{StadtMunster.2023}
B9: 260 | C9: 75 | G9: Population (18+) | H9: 915,572 \parencite[p. 27]{StadtKoln.2023} | I9: 226,211 \parencite{StadtAachen.2025.tab} | J9: 265,616 \parencite[p. 9]{StadtMunster.2024}
B10: 170 | C10: 75 | G10: Drivers | H10: 800209.93 | I10: 197708.41 | J10: 232148.38
B11: 200 | C11: 125 | G11: Drivers with \acs{RPP} [\%] | H11: 7.625499 | I11: 10.997509 | J11: 2.8369786
B12: 200 | C12: 120
B13: 200 | C13: 160 | G13: Germany | H13: =AVERAGE(H19:J19)*0.4145 -> 0.030009907
